BEGIN:VCALENDAR
VERSION:2.0
PRODID:-//Associated Colleges of the South - ECPv6.15.12.2//NONSGML v1.0//EN
CALSCALE:GREGORIAN
METHOD:PUBLISH
X-WR-CALNAME:Associated Colleges of the South
X-ORIGINAL-URL:https://www.acsouth.edu
X-WR-CALDESC:Events for Associated Colleges of the South
REFRESH-INTERVAL;VALUE=DURATION:PT1H
X-Robots-Tag:noindex
X-PUBLISHED-TTL:PT1H
BEGIN:VTIMEZONE
TZID:America/New_York
BEGIN:DAYLIGHT
TZOFFSETFROM:-0500
TZOFFSETTO:-0400
TZNAME:EDT
DTSTART:20240310T070000
END:DAYLIGHT
BEGIN:STANDARD
TZOFFSETFROM:-0400
TZOFFSETTO:-0500
TZNAME:EST
DTSTART:20241103T060000
END:STANDARD
BEGIN:DAYLIGHT
TZOFFSETFROM:-0500
TZOFFSETTO:-0400
TZNAME:EDT
DTSTART:20250309T070000
END:DAYLIGHT
BEGIN:STANDARD
TZOFFSETFROM:-0400
TZOFFSETTO:-0500
TZNAME:EST
DTSTART:20251102T060000
END:STANDARD
BEGIN:DAYLIGHT
TZOFFSETFROM:-0500
TZOFFSETTO:-0400
TZNAME:EDT
DTSTART:20260308T070000
END:DAYLIGHT
BEGIN:STANDARD
TZOFFSETFROM:-0400
TZOFFSETTO:-0500
TZNAME:EST
DTSTART:20261101T060000
END:STANDARD
END:VTIMEZONE
BEGIN:VEVENT
DTSTART;TZID=America/New_York:20251104T090000
DTEND;TZID=America/New_York:20251104T101500
DTSTAMP:20260419T084725
CREATED:20250815T175757Z
LAST-MODIFIED:20250815T175758Z
UID:16391-1762246800-1762251300@www.acsouth.edu
SUMMARY:The Effective Department Chair – Program Session
DESCRIPTION:The ACS Effective Department Chair program offers a supportive and practical professional development experience grounded in community\, mentoring\, and real-world leadership challenges. \n\n\n\nThis program is designed to help department chairs thrive – not just survive – in their roles. \n\n\n\nIf you would like more information\, please contact Shiree Williams\, ACS – swilliams@acsouth.edu
URL:https://www.acsouth.edu/event/the-effective-department-chair-program-session-4/
CATEGORIES:Professional Development
END:VEVENT
BEGIN:VEVENT
DTSTART;TZID=America/New_York:20251113T140000
DTEND;TZID=America/New_York:20251114T153000
DTSTAMP:20260419T084725
CREATED:20250604T175352Z
LAST-MODIFIED:20250623T164511Z
UID:15432-1763042400-1763134200@www.acsouth.edu
SUMMARY:2025 VP of Student Life & Dean of Students Meeting
DESCRIPTION:Draft agenda and registration link will be shared in August of 2025. If you would like more information on this event\, please contact Ashley Torgerson at atorgerson@acsouth.edu.
URL:https://www.acsouth.edu/event/2025-vp-of-student-life-dean-of-students-meeting/
CATEGORIES:Training
END:VEVENT
BEGIN:VEVENT
DTSTART;TZID=America/New_York:20251114T140000
DTEND;TZID=America/New_York:20251114T160000
DTSTAMP:20260419T084725
CREATED:20250815T185206Z
LAST-MODIFIED:20250815T185208Z
UID:16404-1763128800-1763136000@www.acsouth.edu
SUMMARY:Mid-career Advancement Pathways Program - Core Workshop
DESCRIPTION:The Mid-career Advancement Pathways Program (MAPP) is designed to help mid-career faculty thrive by developing meaningful goals\, plans\, and relationships. MAPP is a program for faculty across ACS campuses.  \n\n\n\nIf you would like more information\, please contact Shiree Williams\, ACS – swilliams@acsouth.edu
URL:https://www.acsouth.edu/event/mid-career-advancement-pathways-program-core-workshop-3/
CATEGORIES:Professional Development
END:VEVENT
END:VCALENDAR